BEGIN:VCALENDAR
VERSION:2.0
PRODID:-//Mining Engineering - ECPv5.16.2.1//NONSGML v1.0//EN
CALSCALE:GREGORIAN
METHOD:PUBLISH
X-WR-CALNAME:Mining Engineering
X-ORIGINAL-URL:http://mining.itb.ac.id
X-WR-CALDESC:Events for Mining Engineering
BEGIN:VTIMEZONE
TZID:UTC
BEGIN:STANDARD
TZOFFSETFROM:+0000
TZOFFSETTO:+0000
TZNAME:UTC
DTSTART:20220101T000000
END:STANDARD
END:VTIMEZONE
BEGIN:VEVENT
DTSTART;TZID=UTC:20220809T080000
DTEND;TZID=UTC:20220816T170000
DTSTAMP:20260425T153706
CREATED:20220718T065709Z
LAST-MODIFIED:20220718T065709Z
UID:13743-1660032000-1660669200@mining.itb.ac.id
SUMMARY:Perwalian dan Pendaftaran Ulang Semester I-2022/2023 Bagi Seluruh Mahasiswa
DESCRIPTION:
URL:http://mining.itb.ac.id/event/perwalian-dan-pendaftaran-ulang-semester-i-2022-2023-bagi-seluruh-mahasiswa/
END:VEVENT
END:VCALENDAR